BEGIN:VCALENDAR
PRODID:-//Eem//SV
VERSION:2.0
METHOD:PUBLISH
BEGIN:VEVENT
CLASS:PUBLIC
CREATED:20260423T031103Z
DESCRIPTION:Sammanfattning: Consciousness from fetal life to old age\n\nMer information: https://www.sls.se/sls/aktuellt/tidigare-event/bz-109-the-mind-from-cradle-to-grave
DTEND;VALUE=DATE:20240523
DTSTAMP:20260423T031103Z
DTSTART;VALUE=DATE:20240522
LAST-MODIFIED:20260423T031103Z
LOCATION:Svenska Läkaresällskapet, Klara Östra Kyrkogata 10 or Zoom
SEQUENCE:0
SUMMARY:Berzelius Symposium 109: the Mind from  Cradle to Grave
STATUS:CONFIRMED
TRANSP:TRANSPARENT
UID:ad1bb141-4bf8-40c4-9e77-90bcb132317b
END:VEVENT
END:VCALENDAR
