BEGIN:VCALENDAR
PRODID:-//Eem//SV
VERSION:2.0
METHOD:PUBLISH
BEGIN:VEVENT
CLASS:PUBLIC
CREATED:20260423T115128Z
DESCRIPTION:Sammanfattning: Svensk förening för allmänmedicin i samarbete med Svenska Läkaresällskapet (SLS) bjuder in till digitala föreläsningar sista torsdagen i månaden kl. 12.00-13.00, med möjlighet till fördjupning och nationell kollegial dialog.\n\nMer information: https://www.sls.se/sls/aktuellt/kalendarium-sls-foreningar/sfams-torsdagsmote-examen\n\nAnslut direkt till mötet: https://us06web.zoom.us/meeting/register/Er2_bhAuR2iJ-vy_HOUXHA#/registration
DTEND:20251024T120000Z
DTSTAMP:20260423T115128Z
DTSTART:20251023T120000Z
LAST-MODIFIED:20260423T115128Z
LOCATION:Zoom
SEQUENCE:0
SUMMARY:SFAM:s torsdagsmöte - Examen
STATUS:CONFIRMED
TRANSP:TRANSPARENT
UID:a84b097f-5dca-42a0-a879-a87f5258e474
END:VEVENT
END:VCALENDAR
