BEGIN:VCALENDAR
PRODID:-//Eem//SV
VERSION:2.0
METHOD:PUBLISH
BEGIN:VEVENT
CLASS:PUBLIC
CREATED:20260423T135212Z
DESCRIPTION:Sammanfattning: Biopsykosocial smärtanalys – grunden i god smärtvård\n\nMer information: https://www.sls.se/sls/aktuellt/kalendarium-sls-foreningar/svenska-smartlakarforeningens-varmote-2025
DTEND;VALUE=DATE:20250405
DTSTAMP:20260423T135212Z
DTSTART;VALUE=DATE:20250404
LAST-MODIFIED:20260423T135212Z
LOCATION:Westmanska Palatset, Stockholm eller via länk
SEQUENCE:0
SUMMARY:Svenska Smärtläkarföreningens vårmöte 2025!
STATUS:CONFIRMED
TRANSP:TRANSPARENT
UID:837540f7-e77f-4e0e-ac12-36420691965c
END:VEVENT
END:VCALENDAR
