BEGIN:VCALENDAR
PRODID:-//Eem//SV
VERSION:2.0
METHOD:PUBLISH
BEGIN:VEVENT
CLASS:PUBLIC
CREATED:20260422T184715Z
DESCRIPTION:Sammanfattning: Varmt välkommen att delta 28 januari kl. 12.00-13.00!\n\nMer information: https://www.sls.se/sls/aktuellt/kalendarium-sls-foreningar/svenska-hjartforbundets-varwebinar
DTEND:20260129T120000Z
DTSTAMP:20260422T184715Z
DTSTART:20260128T120000Z
LAST-MODIFIED:20260422T184715Z
LOCATION:Zoom
SEQUENCE:0
SUMMARY:Svenska Hjärtförbundets Vårwebinar
STATUS:CONFIRMED
TRANSP:TRANSPARENT
UID:9525e6e7-d9ea-4dd4-83d6-bfe994201af7
END:VEVENT
END:VCALENDAR
