BEGIN:VCALENDAR
PRODID:-//Eem//SV
VERSION:2.0
METHOD:PUBLISH
BEGIN:VEVENT
CLASS:PUBLIC
CREATED:20260423T154511Z
DESCRIPTION:Sammanfattning: Välkomna till SLS fullmäktige 2026
TidTisdagen den 12 maj 2026 kl. 13.00 – 17.00Lunch serveras från kl. 12. Mötet avslutas med mingel kl. 17.
PlatsSvenska Läkaresällskapet, Klara Östra Kyrkogata 10, Stockholmeller via Zoom.
Preliminärt tidsschema12.00-12.55Lunch i SLS restaurang13.00-14.00Mötesförhandlingar14.00-14.10Paus14.10-15.00Fortsatta mötesförhandlingar15.00-15.30 Kaffe15.30-17.00Fortsatta mötesförhandlingar17.00 Avslutande mingel
Läs mer och anmälan\n\nMer information: https://www.sls.se/sls/aktuellt/kalendarium/fullmaktige-2026
DTEND:20260512T170000Z
DTSTAMP:20260423T154511Z
DTSTART:20260512T130000Z
LAST-MODIFIED:20260423T154511Z
LOCATION:SLS hus, Stockholm och digitalt
SEQUENCE:0
SUMMARY:SLS Fullmäktigemöte 2026
STATUS:CONFIRMED
TRANSP:TRANSPARENT
UID:61a23c0f-dbed-4e17-b42c-5b4cb0c0e010
END:VEVENT
END:VCALENDAR
