BEGIN:VCALENDAR
PRODID:-//Eem//SV
VERSION:2.0
METHOD:PUBLISH
BEGIN:VEVENT
CLASS:PUBLIC
CREATED:20260419T201653Z
DESCRIPTION:Sammanfattning: #4. Försörjningsberedskap (Blodprodukter, läkemedel, laboratorie-reagens, logistik)\n\nMer information: https://www.sls.se/sls/aktuellt/kalendarium/sls-webbinarserie-svensk-sjukvard-i-kris-och-krig-4-forsorjningsberedskap\n\nAnslut direkt till mötet: https://us06web.zoom.us/webinar/register/WN_4rWPEfhfSd-fvz4lqjyWXg#/registration
DTEND:20261210T120000Z
DTSTAMP:20260419T201653Z
DTSTART:20261209T120000Z
LAST-MODIFIED:20260419T201653Z
LOCATION:Zoom
SEQUENCE:0
SUMMARY:SLS webbinarserie: Svensk sjukvård i kris och krig – beredskap, ledning och uthållighet
STATUS:CONFIRMED
TRANSP:TRANSPARENT
UID:6391a19c-4843-406d-9bc5-419aba886870
END:VEVENT
END:VCALENDAR
