BEGIN:VCALENDAR
PRODID:-//Eem//SV
VERSION:2.0
METHOD:PUBLISH
BEGIN:VEVENT
CLASS:PUBLIC
CREATED:20260423T143017Z
DESCRIPTION:Sammanfattning: Svenska Läkare mot Kärnvapen arrangerar webbinar i samarbete med SLS den 20 februari kl. 12.15-13.00. \n\nMer information: https://www.sls.se/sls/aktuellt/kalendarium-sls-foreningar/webbinar-lakares-roll-mot-karnvapen
DTEND;VALUE=DATE:20250221
DTSTAMP:20260423T143017Z
DTSTART;VALUE=DATE:20250220
LAST-MODIFIED:20260423T143017Z
LOCATION:Zoom
SEQUENCE:0
SUMMARY:Webbinar - Läkares roll mot kärnvapen
STATUS:CONFIRMED
TRANSP:TRANSPARENT
UID:28123860-818e-4688-8355-481d1da66b6d
END:VEVENT
END:VCALENDAR
