BEGIN:VCALENDAR
PRODID:-//Eem//SV
VERSION:2.0
METHOD:PUBLISH
BEGIN:VEVENT
CLASS:PUBLIC
CREATED:20260422T143631Z
DESCRIPTION:Sammanfattning: Temadag arrangerad av ETOS, etikföreningen inom Svensk Förening för Anestesi och Intensivvård (SFAI).\n\nMer information: https://www.sls.se/sls/aktuellt/kalendarium-sls-foreningar/etos-etikdag
DTEND:20260922T160000Z
DTSTAMP:20260422T143631Z
DTSTART:20260922T093000Z
LAST-MODIFIED:20260422T143631Z
LOCATION:SLS hus, Stockholm
SEQUENCE:0
SUMMARY:ETOS Etikdag: "Vad händer med vår etiska kompass när omvärlden skakar?"
STATUS:CONFIRMED
TRANSP:TRANSPARENT
UID:b80d3cd2-9810-4591-a070-e9372058ec51
END:VEVENT
END:VCALENDAR
