BEGIN:VCALENDAR
PRODID:-//Eem//SV
VERSION:2.0
METHOD:PUBLISH
BEGIN:VEVENT
CLASS:PUBLIC
CREATED:20260422T144527Z
DESCRIPTION:Sammanfattning: Aktuell uppdatering inom AI i vården\n\nMer information: https://www.sls.se/sls/aktuellt/tidigare-event/sls-ehalsodag-2024
DTEND;VALUE=DATE:20241121
DTSTAMP:20260422T144527Z
DTSTART;VALUE=DATE:20241120
LAST-MODIFIED:20260422T144527Z
LOCATION:
SEQUENCE:0
SUMMARY:SLS eHälsodag 2024
STATUS:CONFIRMED
TRANSP:TRANSPARENT
UID:0deb767d-217e-4dc9-be9d-c35ad3ed63a5
END:VEVENT
END:VCALENDAR
