BEGIN:VCALENDAR
PRODID:-//Eem//SV
VERSION:2.0
METHOD:PUBLISH
BEGIN:VEVENT
CLASS:PUBLIC
CREATED:20260423T135136Z
DESCRIPTION:Sammanfattning: Svensk förening för Narrativ Medicin bjuder in till Filmfestival med temat: Att vara människa. 
På Bio Capitol  i Göteborg den 17 - 18 oktober 2024\n\nMer information: https://www.sls.se/sls/aktuellt/kalendarium-sls-foreningar/narrativ-medicin-filmfestival
DTEND;VALUE=DATE:20241018
DTSTAMP:20260423T135136Z
DTSTART;VALUE=DATE:20241017
LAST-MODIFIED:20260423T135136Z
LOCATION:Göteborg
SEQUENCE:0
SUMMARY:Narrativ Medicin Filmfestival
STATUS:CONFIRMED
TRANSP:TRANSPARENT
UID:a5725c77-8c51-4aad-95d7-55002a0a55aa
END:VEVENT
END:VCALENDAR
