BEGIN:VCALENDAR
PRODID:-//Eem//SV
VERSION:2.0
METHOD:PUBLISH
BEGIN:VEVENT
CLASS:PUBLIC
CREATED:20260421T173605Z
DESCRIPTION:Sammanfattning: Vad är egentligen ultraprocessad mat – och hur påverkar den vår hälsa? Svenska Läkaresällskapet bjuder in till ett lunchwebbinarium där aktuella forskningsrön presenteras och diskuteras. Onsdag 3 juni kl. 12.00-13.00. \n\nMer information: https://www.sls.se/sls/aktuellt/kalendarium/sls-webbinar-ultraprocessad-mat-och-halsa\n\nAnslut direkt till mötet: https://us06web.zoom.us/webinar/register/WN_sMyOjm6QQIiE6ISN2OEzqw
DTEND:20260604T120000Z
DTSTAMP:20260421T173605Z
DTSTART:20260603T120000Z
LAST-MODIFIED:20260421T173605Z
LOCATION:Zoom
SEQUENCE:0
SUMMARY:SLS webbinar: Ultraprocessad mat och hälsa
STATUS:CONFIRMED
TRANSP:TRANSPARENT
UID:18267080-a8a7-45fc-bc51-f51a5d0ed942
END:VEVENT
END:VCALENDAR
