BEGIN:VCALENDAR
PRODID:-//Eem//SV
VERSION:2.0
METHOD:PUBLISH
BEGIN:VEVENT
CLASS:PUBLIC
CREATED:20260425T174933Z
DESCRIPTION:Sammanfattning: Tema: Hur ska professionen vara en medaktör istället för reaktör i vårdens digitalisering? Krav på utbildning, informationsstruktur och granskning avseende hälsodata, journalsystem och generativ AI.\n\nMer information: https://www.sls.se/sls/aktuellt/tidigare-event/ehalsodagen-2025
DTEND;VALUE=DATE:20251126
DTSTAMP:20260425T174933Z
DTSTART;VALUE=DATE:20251125
LAST-MODIFIED:20260425T174933Z
LOCATION:SLS hus och digitalt
SEQUENCE:0
SUMMARY:SLS eHälsodag 2025
STATUS:CONFIRMED
TRANSP:TRANSPARENT
UID:a66a8ad5-6dfa-4719-9f8a-b6ff8f73a844
END:VEVENT
END:VCALENDAR
