BEGIN:VCALENDAR
PRODID:-//Eem//SV
VERSION:2.0
METHOD:PUBLISH
BEGIN:VEVENT
CLASS:PUBLIC
CREATED:20260423T172919Z
DESCRIPTION:Sammanfattning: Den 7-8 oktober 2024, Stabygården i Högsby med möjlighet till digitalt deltagande i delar av programmet.\n\nMer information: https://www.sls.se/sls/aktuellt/kalendarium-sls-foreningar/konferens-om-social-forskrivning
DTEND;VALUE=DATE:20241008
DTSTAMP:20260423T172919Z
DTSTART;VALUE=DATE:20241007
LAST-MODIFIED:20260423T172919Z
LOCATION:
SEQUENCE:0
SUMMARY:Social förskrivning - Vad är det? Hur gör man?
STATUS:CONFIRMED
TRANSP:TRANSPARENT
UID:80f02a6e-69c1-490a-8350-b9b782fbeefa
END:VEVENT
END:VCALENDAR
