BEGIN:VCALENDAR
PRODID:-//Eem//SV
VERSION:2.0
METHOD:PUBLISH
BEGIN:VEVENT
CLASS:PUBLIC
CREATED:20260421T173424Z
DESCRIPTION:Sammanfattning: Svensk Förening för Diabetologi (SFD) i samarbete med SLS bjuder in till lunchwebbinar tisdagen den 10 november kl. 12.00 - 13.00\n\nMer information: https://www.sls.se/sls/aktuellt/kalendarium/sfd-webbinar-easd-ada-highlights-2026\n\nAnslut direkt till mötet: https://us06web.zoom.us/webinar/register/WN_tuy-t6x4SIuVKBBOPUilYA
DTEND:20261111T120000Z
DTSTAMP:20260421T173424Z
DTSTART:20261110T120000Z
LAST-MODIFIED:20260421T173424Z
LOCATION:Zoom
SEQUENCE:0
SUMMARY:SFD Webbinar - EASD & ADA highlights 2026 - höjdpunkter från två stora internationella diabeteskongresser
STATUS:CONFIRMED
TRANSP:TRANSPARENT
UID:5ae07c67-df6c-4192-864f-3894ba72877e
END:VEVENT
END:VCALENDAR
