BEGIN:VCALENDAR
PRODID:-//Eem//SV
VERSION:2.0
METHOD:PUBLISH
BEGIN:VEVENT
CLASS:PUBLIC
CREATED:20260423T081809Z
DESCRIPTION:Sammanfattning: KIRUB dagarna 2025 hålls i Skövde 14-16 maj.\n\nMer information: https://www.sls.se/sls/aktuellt/kalendarium-sls-foreningar/kirub-dagarna
DTEND;VALUE=DATE:20250516
DTSTAMP:20260423T081809Z
DTSTART;VALUE=DATE:20250514
LAST-MODIFIED:20260423T081809Z
LOCATION:Skövde
SEQUENCE:0
SUMMARY:Välkommen till KIRUB dagarna 2025!
STATUS:CONFIRMED
TRANSP:TRANSPARENT
UID:ded668ed-d60d-44cb-98bd-f7fc344aee76
END:VEVENT
END:VCALENDAR
