BEGIN:VCALENDAR
PRODID:-//Eem//SV
VERSION:2.0
METHOD:PUBLISH
BEGIN:VEVENT
CLASS:PUBLIC
CREATED:20260423T100118Z
DESCRIPTION:Sammanfattning: Svensk Geriatrisk Förening bjuder in till webbinar den 4 december kl. 12-12.50 på zoom. \n\nMer information: https://www.sls.se/sls/aktuellt/kalendarium-sls-foreningar/highlights-fran-geriatriska-kongressen-eugms-valencia-2024
DTEND;VALUE=DATE:20241205
DTSTAMP:20260423T100118Z
DTSTART;VALUE=DATE:20241204
LAST-MODIFIED:20260423T100118Z
LOCATION:Zoom
SEQUENCE:0
SUMMARY:Highlights från Geriatriska Kongressen EuGMS Valencia 2024
STATUS:CONFIRMED
TRANSP:TRANSPARENT
UID:27ff426c-2f2f-4f1c-a1f0-947d9e797640
END:VEVENT
END:VCALENDAR
