BEGIN:VCALENDAR
PRODID:-//Eem//SV
VERSION:2.0
METHOD:PUBLISH
BEGIN:VEVENT
CLASS:PUBLIC
CREATED:20260420T125808Z
DESCRIPTION:Sammanfattning: Detta webbinar arrangeras av Svensk förening för socialmedicin och folkhälsa i samarbete med Svenska Läkaresällskapet, onsdagen den 25 mars kl. 16.30-18.00\n\nMer information: https://www.sls.se/sls/aktuellt/tidigare-event/webbinar-hur-mar-den-svenska-sjukvarden\n\nAnslut direkt till mötet: https://us06web.zoom.us/webinar/register/WN_LI1gG9u4Qz2gkz2RqwQuGw
DTEND:20260326T163000Z
DTSTAMP:20260420T125808Z
DTSTART:20260325T163000Z
LAST-MODIFIED:20260420T125808Z
LOCATION:Zoom
SEQUENCE:0
SUMMARY:Webbinar: Hur mår den svenska sjukvården – och vad står på spel för patienter och personal?
STATUS:CONFIRMED
TRANSP:TRANSPARENT
UID:eba5e69c-e52e-4eb6-bf08-49a3fd8c1362
END:VEVENT
END:VCALENDAR
