BEGIN:VCALENDAR
PRODID:-//Eem//SV
VERSION:2.0
METHOD:PUBLISH
BEGIN:VEVENT
CLASS:PUBLIC
CREATED:20260421T173452Z
DESCRIPTION:Sammanfattning: Välkommen på ett kostnadsfritt webbinar den 19 maj kl.12-13. \n\nMer information: https://www.sls.se/sls/aktuellt/kalendarium/sls-webbinar-suicidalitet-hos-barn-och-unga\n\nAnslut direkt till mötet: https://us06web.zoom.us/webinar/register/WN_a-6Ai4dXR_2AfiDdDY8l8w
DTEND:20260520T120000Z
DTSTAMP:20260421T173452Z
DTSTART:20260519T120000Z
LAST-MODIFIED:20260421T173452Z
LOCATION:Digitalt via Zoom
SEQUENCE:0
SUMMARY:SLS webbinar: Suicidalitet hos barn och unga –  aktuell statistik och ny kunskap om bemötande
STATUS:CONFIRMED
TRANSP:TRANSPARENT
UID:39f1b341-26a1-423f-9f36-b725b46b6f52
END:VEVENT
END:VCALENDAR
