BEGIN:VCALENDAR
PRODID:-//Eem//SV
VERSION:2.0
METHOD:PUBLISH
BEGIN:VEVENT
CLASS:PUBLIC
CREATED:20260423T081847Z
DESCRIPTION:Sammanfattning: Sammanträder digitalt kl. 17-18.00.\n\nMer information: https://www.sls.se/sls/aktuellt/organisationskalendarium/au
DTEND;VALUE=DATE:20240223
DTSTAMP:20260423T081847Z
DTSTART;VALUE=DATE:20240222
LAST-MODIFIED:20260423T081847Z
LOCATION:
SEQUENCE:0
SUMMARY:SLS AU (arbetsutskott)
STATUS:CONFIRMED
TRANSP:TRANSPARENT
UID:10c2859e-5c05-49e3-9c4c-beb697865018
END:VEVENT
END:VCALENDAR
