BEGIN:VCALENDAR
PRODID:-//Eem//SV
VERSION:2.0
METHOD:PUBLISH
BEGIN:VEVENT
CLASS:PUBLIC
CREATED:20260420T124445Z
DESCRIPTION:Sammanfattning: #7. Hur kan primärvården bäst hantera en stor kris/ett krig?\n\nMer information: https://www.sls.se/sls/aktuellt/kalendarium/sls-webbinarserie-svensk-sjukvard-i-kris-och-krig-7-hur-kan-primarvarden-bast-hantera-en-stor-kris\n\nAnslut direkt till mötet: https://us06web.zoom.us/webinar/register/WN_4rWPEfhfSd-fvz4lqjyWXg#/registration
DTEND:20270304T120000Z
DTSTAMP:20260420T124445Z
DTSTART:20270303T120000Z
LAST-MODIFIED:20260420T124445Z
LOCATION:Zoom
SEQUENCE:0
SUMMARY:SLS webbinarserie: Svensk sjukvård i kris och krig – beredskap, ledning och uthållighet
STATUS:CONFIRMED
TRANSP:TRANSPARENT
UID:4723ded9-af7e-489d-bfac-541335bf90d7
END:VEVENT
END:VCALENDAR
