BEGIN:VCALENDAR
PRODID:-//Eem//SV
VERSION:2.0
METHOD:PUBLISH
BEGIN:VEVENT
CLASS:PUBLIC
CREATED:20260424T171805Z
DESCRIPTION:Sammanfattning: Vilken barrikad ska vi stå på när normer förskjuts? – En dag om normförskjutningar i samhället, etiken och politiken\n\nMer information: https://www.sls.se/sls/aktuellt/tidigare-event/sls-etikdag-2025\n\nAnslut direkt till mötet: https://events.magnetevents.com/Event/sls-och-slfs-etikdag-2025-62050/
DTEND;VALUE=DATE:20251127
DTSTAMP:20260424T171805Z
DTSTART;VALUE=DATE:20251126
LAST-MODIFIED:20260424T171805Z
LOCATION:SLS hus och digitalt
SEQUENCE:0
SUMMARY:SLS och Slfs Etikdag 2025
STATUS:CONFIRMED
TRANSP:TRANSPARENT
UID:cf64327c-10bb-43b0-88db-48e3cdb7f68f
END:VEVENT
END:VCALENDAR
