BEGIN:VCALENDAR
PRODID:-//Eem//SV
VERSION:2.0
METHOD:PUBLISH
BEGIN:VEVENT
CLASS:PUBLIC
CREATED:20260423T115107Z
DESCRIPTION:Sammanfattning: Pengar, patienter och praktik – tre perspektiv på hjärtsjukvården\n\nMer information: https://www.sls.se/sls/aktuellt/kalendarium-sls-foreningar/svenska-hjartforbundets-webbinar
DTEND:20251204T120000Z
DTSTAMP:20260423T115107Z
DTSTART:20251203T120000Z
LAST-MODIFIED:20260423T115107Z
LOCATION:Zoom
SEQUENCE:0
SUMMARY:Svenska Hjärtförbundets webbinar
STATUS:CONFIRMED
TRANSP:TRANSPARENT
UID:34426411-ea2f-406b-abff-f13c971303f8
END:VEVENT
END:VCALENDAR
