BEGIN:VCALENDAR
PRODID:-//Eem//SV
VERSION:2.0
METHOD:PUBLISH
BEGIN:VEVENT
CLASS:PUBLIC
CREATED:20260423T081848Z
DESCRIPTION:Sammanfattning: Konst & Läkekonst den 14 april 2026, kl. 18-19, SLS hus, Klara Östra Kyrkogata 10, Stockholm.\n\nMer information: https://www.sls.se/sls/aktuellt/kalendarium/konst-lakekonst-14-april
DTEND:20260414T190000Z
DTSTAMP:20260423T081848Z
DTSTART:20260414T180000Z
LAST-MODIFIED:20260423T081848Z
LOCATION:SLS hus, Stockholm
SEQUENCE:0
SUMMARY:Konst & Läkekonst: Tintins hälsa
STATUS:CONFIRMED
TRANSP:TRANSPARENT
UID:27d262e7-f612-464d-91f8-724e28c5c401
END:VEVENT
END:VCALENDAR
