BEGIN:VCALENDAR
PRODID:-//Eem//SV
VERSION:2.0
METHOD:PUBLISH
BEGIN:VEVENT
CLASS:PUBLIC
CREATED:20260422T164403Z
DESCRIPTION:Sammanfattning: Opioider – på gott och ont\n\nMer information: https://www.sls.se/sls/aktuellt/kalendarium-sls-foreningar/svenska-smartlakarforeningens-varmote-2026
DTEND;VALUE=DATE:20260418
DTSTAMP:20260422T164403Z
DTSTART;VALUE=DATE:20260417
LAST-MODIFIED:20260422T164403Z
LOCATION:Westmanska palatset, Stockholm och online
SEQUENCE:0
SUMMARY:Svenska Smärtläkarföreningens Vårmöte 2026
STATUS:CONFIRMED
TRANSP:TRANSPARENT
UID:7d927620-3930-4958-b8c5-aaa699146058
END:VEVENT
END:VCALENDAR
