BEGIN:VCALENDAR
PRODID:-//Eem//SV
VERSION:2.0
METHOD:PUBLISH
BEGIN:VEVENT
CLASS:PUBLIC
CREATED:20260423T041127Z
DESCRIPTION:Sammanfattning: Aliquam luctus venenatis mauris, id tincidunt diam bibendum sit amet. Nullam at convallis diam. 
\n\nMer information: https://www.sls.se/standardsida-niva-1/testevent\n\nAnslut direkt till mötet: https://teams.microsoft.com/meet/3205144277779?p=ZQBdu45pzNqI9I0Gp4
DTEND;VALUE=DATE:20250617
DTSTAMP:20260423T041127Z
DTSTART;VALUE=DATE:20250616
LAST-MODIFIED:20260423T041127Z
LOCATION:Stockholm
SEQUENCE:0
SUMMARY:Testevent
STATUS:CONFIRMED
TRANSP:TRANSPARENT
UID:a3b0335f-a1cf-4e61-be9c-0de341ff6c80
END:VEVENT
END:VCALENDAR
