BEGIN:VCALENDAR
PRODID:-//Eem//SV
VERSION:2.0
METHOD:PUBLISH
BEGIN:VEVENT
CLASS:PUBLIC
CREATED:20260423T081759Z
DESCRIPTION:Sammanfattning: Deltar du på Vitalis 2026? Missa då inte Svenska Läkaresällskapets medverkan. \n\nMer information: https://www.sls.se/sls/aktuellt/kalendarium/sls-pa-vitalis-2026
DTEND;VALUE=DATE:20260507
DTSTAMP:20260423T081759Z
DTSTART;VALUE=DATE:20260504
LAST-MODIFIED:20260423T081759Z
LOCATION:Svenska Mässan, Göteborg
SEQUENCE:0
SUMMARY:SLS på Vitalis 2026
STATUS:CONFIRMED
TRANSP:TRANSPARENT
UID:1a106aaf-3fb8-471a-aade-cd6e183f6e79
END:VEVENT
END:VCALENDAR
