BEGIN:VCALENDAR
PRODID:-//Eem//SV
VERSION:2.0
METHOD:PUBLISH
BEGIN:VEVENT
CLASS:PUBLIC
CREATED:20260423T094531Z
DESCRIPTION:Sammanfattning: Anmälan är nu öppen!\n\nMer information: https://www.sls.se/sls/aktuellt/kalendarium-sls-foreningar/endodiabetes-2025
DTEND;VALUE=DATE:20250328
DTSTAMP:20260423T094531Z
DTSTART;VALUE=DATE:20250326
LAST-MODIFIED:20260423T094531Z
LOCATION:Linköping Konsert & Kongress
SEQUENCE:0
SUMMARY:Välkommen till Endodiabetes 2025!
STATUS:CONFIRMED
TRANSP:TRANSPARENT
UID:1207d5a0-5cf4-4e23-9388-d3af9719861a
END:VEVENT
END:VCALENDAR
