BEGIN:VCALENDAR
PRODID:-//Eem//SV
VERSION:2.0
METHOD:PUBLISH
BEGIN:VEVENT
CLASS:PUBLIC
CREATED:20260422T161041Z
DESCRIPTION:Sammanfattning: Endokrindagarna 2026 kommer att hållas i Umeå mellan 18-20 mars.
Skriv redan nu upp datumet i din kalender!
Välkommen till vackra Umeå och norrskenet i senvinternatten.
Mer information här\n\nMer information: https://www.sls.se/sls/aktuellt/kalendarium-sls-foreningar/endokrindagarna
DTEND;VALUE=DATE:20260320
DTSTAMP:20260422T161041Z
DTSTART;VALUE=DATE:20260318
LAST-MODIFIED:20260422T161041Z
LOCATION:Umeå
SEQUENCE:0
SUMMARY:Endokrindagarna
STATUS:CONFIRMED
TRANSP:TRANSPARENT
UID:29d87892-c688-4777-a660-e290528e9714
END:VEVENT
END:VCALENDAR
