BEGIN:VCALENDAR
PRODID:-//Eem//SV
VERSION:2.0
METHOD:PUBLISH
BEGIN:VEVENT
CLASS:PUBLIC
CREATED:20260421T174300Z
DESCRIPTION:Sammanfattning: Svensk Förening för Obstetrisk Anestesi och Intensivvård (SFOAI) bjuder in till ett kostnadsfritt webbinar i samarbete med SLS. Den 16 april kl. 14-15. \n\nMer information: https://www.sls.se/sls/aktuellt/kalendarium/webbinar-indelning-av-akuta-sectio-och-val-av-dess-anestesi\n\nAnslut direkt till mötet: https://us06web.zoom.us/meeting/register/SCfKM8ndS_iNAEewWjmhMQ#/registration
DTEND:20260417T140000Z
DTSTAMP:20260421T174300Z
DTSTART:20260416T140000Z
LAST-MODIFIED:20260421T174300Z
LOCATION:Zoom
SEQUENCE:0
SUMMARY:Webbinar: Indelning av akuta sectio och val av dess anestesi
STATUS:CONFIRMED
TRANSP:TRANSPARENT
UID:dafa99c0-f560-4c6a-8e7a-f23edf3eb0cb
END:VEVENT
END:VCALENDAR
