BEGIN:VCALENDAR
PRODID:-//Eem//SV
VERSION:2.0
METHOD:PUBLISH
BEGIN:VEVENT
CLASS:PUBLIC
CREATED:20260423T081717Z
DESCRIPTION:Sammanfattning: Den 12–14 november i Stockholm\n\nMer information: https://www.sls.se/sls/aktuellt/kalendarium-sls-foreningar/kurs-i-hallbar-diagnostik-och-behandling
DTEND;VALUE=DATE:20251114
DTSTAMP:20260423T081717Z
DTSTART;VALUE=DATE:20251112
LAST-MODIFIED:20260423T081717Z
LOCATION:Stockholm
SEQUENCE:0
SUMMARY:Kurs i hållbar diagnostik och behandling 
STATUS:CONFIRMED
TRANSP:TRANSPARENT
UID:bfc150df-5175-4339-b3b3-32c0471964ec
END:VEVENT
END:VCALENDAR
