BEGIN:VCALENDAR
PRODID:-//Eem//SV
VERSION:2.0
METHOD:PUBLISH
BEGIN:VEVENT
CLASS:PUBLIC
CREATED:20260420T124326Z
DESCRIPTION:Sammanfattning: Med stöd från Stiftelsen Solstickan anordnar Jonas F Ludvigsson (vetenskaplig sekreterare i SLS) en heldag om akutpediatrik den 25 mars 2026 i SLS hus, Klara Östra Kyrkogata 10, Stockholm.\n\nMer information: https://www.sls.se/sls/aktuellt/tidigare-event/akutpediatrikdag-med-stiftelsen-solstickan
DTEND;VALUE=DATE:20260326
DTSTAMP:20260420T124326Z
DTSTART;VALUE=DATE:20260325
LAST-MODIFIED:20260420T124326Z
LOCATION:SLS hus, Stockholm
SEQUENCE:0
SUMMARY:Akutpediatrikdag med Stiftelsen Solstickan
STATUS:CONFIRMED
TRANSP:TRANSPARENT
UID:41d90033-3171-4549-9146-44effe1be8af
END:VEVENT
END:VCALENDAR
