BEGIN:VCALENDAR
PRODID:-//Eem//SV
VERSION:2.0
METHOD:PUBLISH
BEGIN:VEVENT
CLASS:PUBLIC
CREATED:20260421T184854Z
DESCRIPTION:Sammanfattning: Välkommen till SLS och Slf:s gemensamma Etikdag den 2 december 2026!\n\nMer information: https://www.sls.se/sls/aktuellt/kalendarium/sls-och-slfs-etikdag-2026
DTEND;VALUE=DATE:20261203
DTSTAMP:20260421T184854Z
DTSTART;VALUE=DATE:20261202
LAST-MODIFIED:20260421T184854Z
LOCATION:SLS hus och digitalt
SEQUENCE:0
SUMMARY:SLS och Slf:s Etikdag 2026
STATUS:CONFIRMED
TRANSP:TRANSPARENT
UID:2272d4da-6658-4bd2-831f-629426934843
END:VEVENT
END:VCALENDAR
