BEGIN:VCALENDAR
PRODID:-//Eem//SV
VERSION:2.0
METHOD:PUBLISH
BEGIN:VEVENT
CLASS:PUBLIC
CREATED:20260423T115204Z
DESCRIPTION:Sammanfattning: Funktionella tillstånd – ur ett smärtperspektiv\n\nMer information: https://www.sls.se/sls/aktuellt/kalendarium-sls-foreningar/smartlakarforeningens-varmote-2024
DTEND;VALUE=DATE:20240316
DTSTAMP:20260423T115204Z
DTSTART;VALUE=DATE:20240315
LAST-MODIFIED:20260423T115204Z
LOCATION:
SEQUENCE:0
SUMMARY:Smärtläkarföreningens vårmöte 2024
STATUS:CONFIRMED
TRANSP:TRANSPARENT
UID:8542b084-0e16-4605-bfc1-21995d2fde9e
END:VEVENT
END:VCALENDAR
