BEGIN:VCALENDAR
PRODID:-//Eem//SV
VERSION:2.0
METHOD:PUBLISH
BEGIN:VEVENT
CLASS:PUBLIC
CREATED:20260420T122548Z
DESCRIPTION:Sammanfattning: #6. Krisledning, kommunikation, hur får vi med oss befolkningen?\n\nMer information: https://www.sls.se/sls/aktuellt/kalendarium/sls-webbinarserie-svensk-sjukvard-i-kris-och-krig-6-krisledning\n\nAnslut direkt till mötet: https://us06web.zoom.us/webinar/register/WN_4rWPEfhfSd-fvz4lqjyWXg#/registration
DTEND:20270204T120000Z
DTSTAMP:20260420T122548Z
DTSTART:20270203T120000Z
LAST-MODIFIED:20260420T122548Z
LOCATION:Zoom
SEQUENCE:0
SUMMARY:SLS webbinarserie: Svensk sjukvård i kris och krig – beredskap, ledning och uthållighet
STATUS:CONFIRMED
TRANSP:TRANSPARENT
UID:923e657c-ca84-4765-a89c-49c975bd7157
END:VEVENT
END:VCALENDAR
