BEGIN:VCALENDAR
PRODID:-//Eem//SV
VERSION:2.0
METHOD:PUBLISH
BEGIN:VEVENT
CLASS:PUBLIC
CREATED:20260423T095812Z
DESCRIPTION:Sammanfattning: Varför så bråttom? Om evidens och införande av nya metoder i sjukvården\n\nMer information: https://www.sls.se/sls/aktuellt/kalendarium-sls-foreningar/camtos-temadag-10-oktober-2025
DTEND:20251010T163000Z
DTSTAMP:20260423T095812Z
DTSTART:20251010T093000Z
LAST-MODIFIED:20260423T095812Z
LOCATION:
SEQUENCE:0
SUMMARY:CAMTÖS TEMADAG - 10 OKTOBER 2025
STATUS:CONFIRMED
TRANSP:TRANSPARENT
UID:da5031fb-637e-4ca6-a00d-3fc2d6a7bc8b
END:VEVENT
END:VCALENDAR
