BEGIN:VCALENDAR
PRODID:-//Eem//SV
VERSION:2.0
METHOD:PUBLISH
BEGIN:VEVENT
CLASS:PUBLIC
CREATED:20260423T100119Z
DESCRIPTION:Sammanfattning: Svensk Flyg- och Marinmedicinsk Förenings (SANMAs) traditionsenliga årliga vetenskapliga- och sektionsmöte\n\nMer information: https://www.sls.se/sls/aktuellt/kalendarium-sls-foreningar/scientia-et-valebat-x
DTEND;VALUE=DATE:20241207
DTSTAMP:20260423T100119Z
DTSTART;VALUE=DATE:20241206
LAST-MODIFIED:20260423T100119Z
LOCATION:
SEQUENCE:0
SUMMARY:Scientia et Valebat X
STATUS:CONFIRMED
TRANSP:TRANSPARENT
UID:873490f5-70ad-4ec7-92ee-9f50e44b33dc
END:VEVENT
END:VCALENDAR
