BEGIN:VCALENDAR
PRODID:-//Eem//SV
VERSION:2.0
METHOD:PUBLISH
BEGIN:VEVENT
CLASS:PUBLIC
CREATED:20260421T043218Z
DESCRIPTION:Sammanfattning: #8. Forskning inför och under kris och krig\n\nMer information: https://www.sls.se/sls/aktuellt/kalendarium/sls-webbinarserie-svensk-sjukvard-i-kris-och-krig-8-forskning-infor-och-under-kris-och-krig\n\nAnslut direkt till mötet: https://us06web.zoom.us/webinar/register/WN_4rWPEfhfSd-fvz4lqjyWXg#/registration
DTEND:20270408T120000Z
DTSTAMP:20260421T043218Z
DTSTART:20270407T120000Z
LAST-MODIFIED:20260421T043218Z
LOCATION:Zoom
SEQUENCE:0
SUMMARY:SLS webbinarserie: Svensk sjukvård i kris och krig – beredskap, ledning och uthållighet
STATUS:CONFIRMED
TRANSP:TRANSPARENT
UID:4b85022b-9292-4a49-b8ca-5cbec0030f10
END:VEVENT
END:VCALENDAR
