BEGIN:VCALENDAR
PRODID:-//Eem//SV
VERSION:2.0
METHOD:PUBLISH
BEGIN:VEVENT
CLASS:PUBLIC
CREATED:20260423T083856Z
DESCRIPTION:Sammanfattning: Svenska skolläkarföreningen arrangerar fortbildning i samarbete med Svenska Läkaresällskapet och Kraftsamling för psykisk hälsa om utredning av intellektuell funktionsnedsättning den 7 mars kl.13.00-14.00.\n\nMer information: https://www.sls.se/sls/aktuellt/kalendarium-sls-foreningar/webbinar-intellektuell-funktionsnedsattning
DTEND;VALUE=DATE:20250306
DTSTAMP:20260423T083856Z
DTSTART;VALUE=DATE:20250305
LAST-MODIFIED:20260423T083856Z
LOCATION:Zoom
SEQUENCE:0
SUMMARY:Webbinar: Fördjupning – Utredning av lindrig intellektuell funktionsnedsättning - psykologens perspektiv
STATUS:CONFIRMED
TRANSP:TRANSPARENT
UID:1a4de371-b9f5-44f7-82f5-ef66656c82c4
END:VEVENT
END:VCALENDAR
