BEGIN:VCALENDAR
PRODID:-//Eem//SV
VERSION:2.0
METHOD:PUBLISH
BEGIN:VEVENT
CLASS:PUBLIC
CREATED:20260423T154511Z
DESCRIPTION:Sammanfattning: 31 mars - 3 april 2025!\n\nMer information: https://www.sls.se/sls/aktuellt/kalendarium-sls-foreningar/barnveckan-2025
DTEND;VALUE=DATE:20250403
DTSTAMP:20260423T154511Z
DTSTART;VALUE=DATE:20250331
LAST-MODIFIED:20260423T154511Z
LOCATION:Uppsala
SEQUENCE:0
SUMMARY:Välkommen till Barnveckan i Uppsala!
STATUS:CONFIRMED
TRANSP:TRANSPARENT
UID:ec13d514-3f94-4e61-8554-355f0e854ccd
END:VEVENT
END:VCALENDAR
