BEGIN:VCALENDAR
PRODID:-//Eem//SV
VERSION:2.0
METHOD:PUBLISH
BEGIN:VEVENT
CLASS:PUBLIC
CREATED:20260423T095457Z
DESCRIPTION:Sammanfattning: SLS medlemsföreningar, sektioner, lokala läkarsällskap, associerade föreningar och kandidat- och underläkarföreningen bjuds in till ordföranderåd torsdagen den 14 februari.\n\nMer information: https://www.sls.se/sls/aktuellt/organisationskalendarium/sls-ordforanderad
DTEND;VALUE=DATE:20240215
DTSTAMP:20260423T095457Z
DTSTART;VALUE=DATE:20240214
LAST-MODIFIED:20260423T095457Z
LOCATION:
SEQUENCE:0
SUMMARY:SLS ordföranderåd
STATUS:CONFIRMED
TRANSP:TRANSPARENT
UID:6a814eed-08d2-4ae6-a3f2-11a72d8f89f4
END:VEVENT
END:VCALENDAR
