BEGIN:VCALENDAR
PRODID:-//Eem//SV
VERSION:2.0
METHOD:PUBLISH
BEGIN:VEVENT
CLASS:PUBLIC
CREATED:20260423T081816Z
DESCRIPTION:Sammanfattning: Svensk Geriatrisk Förening arrangerar Gerontologiska dagar. Välkommen på ett tvådagarsevent om åldrande med inbjudna föreläsare!\n\nMer information: https://www.sls.se/sls/aktuellt/kalendarium-sls-foreningar/gerontologiska-dagar-2025
DTEND;VALUE=DATE:20250509
DTSTAMP:20260423T081816Z
DTSTART;VALUE=DATE:20250508
LAST-MODIFIED:20260423T081816Z
LOCATION:Läkarförbundet, Stockholm
SEQUENCE:0
SUMMARY:Gerontologiska dagar 2025
STATUS:CONFIRMED
TRANSP:TRANSPARENT
UID:adf2b15f-75f7-44da-8347-2459c44eec3c
END:VEVENT
END:VCALENDAR
