BEGIN:VCALENDAR
PRODID:-//Eem//SV
VERSION:2.0
METHOD:PUBLISH
BEGIN:VEVENT
CLASS:PUBLIC
CREATED:20260423T100118Z
DESCRIPTION:Sammanfattning: Välkommen till en spännande temakväll där vi får möta Rasha Al-Lamee, kardiolog vid Imperial
College i London.\n\nMer information: https://www.sls.se/sls/aktuellt/tidigare-event/sls-temakvall-hjartsjukdomars-roll-vid-multisjuklighet-hos-aldre
DTEND;VALUE=DATE:20250909
DTSTAMP:20260423T100118Z
DTSTART;VALUE=DATE:20250908
LAST-MODIFIED:20260423T100118Z
LOCATION:SLS hus och digitalt
SEQUENCE:0
SUMMARY:SLS temakväll: Hjärtsjukdomars roll vid multisjuklighet hos äldre
STATUS:CONFIRMED
TRANSP:TRANSPARENT
UID:f99f6c67-ccfd-43b5-b7b8-31fd85ab2a15
END:VEVENT
END:VCALENDAR
