BEGIN:VCALENDAR
PRODID:-//Eem//SV
VERSION:2.0
METHOD:PUBLISH
BEGIN:VEVENT
CLASS:PUBLIC
CREATED:20260423T081717Z
DESCRIPTION:Sammanfattning: Varmt välkommen till Malmö och Malmö Live 9-11 april 2025 och det 26:e Kardiovaskulära Vårmötet!\n\nMer information: https://www.sls.se/sls/aktuellt/kalendarium-sls-foreningar/kardiovaskulara-varmotet
DTEND;VALUE=DATE:20250411
DTSTAMP:20260423T081717Z
DTSTART;VALUE=DATE:20250409
LAST-MODIFIED:20260423T081717Z
LOCATION:Malmö
SEQUENCE:0
SUMMARY:26:e Svenska Kardiovaskulära Vårmötet 2025
STATUS:CONFIRMED
TRANSP:TRANSPARENT
UID:7f2d2c4d-b5b3-418b-af03-2f977800c073
END:VEVENT
END:VCALENDAR
