BEGIN:VCALENDAR
PRODID:-//Eem//SV
VERSION:2.0
METHOD:PUBLISH
BEGIN:VEVENT
CLASS:PUBLIC
CREATED:20260423T081809Z
DESCRIPTION:Sammanfattning: Sammanträder digitalt kl. 10-15.30.\n\nMer information: https://www.sls.se/sls/aktuellt/organisationskalendarium/sls-namndmote
DTEND;VALUE=DATE:20240306
DTSTAMP:20260423T081809Z
DTSTART;VALUE=DATE:20240305
LAST-MODIFIED:20260423T081809Z
LOCATION:
SEQUENCE:0
SUMMARY:SLS Nämndmöte
STATUS:CONFIRMED
TRANSP:TRANSPARENT
UID:6ad2d6db-4532-4564-8636-53490d654505
END:VEVENT
END:VCALENDAR
