BEGIN:VCALENDAR
PRODID:-//Eem//SV
VERSION:2.0
METHOD:PUBLISH
BEGIN:VEVENT
CLASS:PUBLIC
CREATED:20260422T120812Z
DESCRIPTION:Sammanfattning: SLS medlemsförening Arbets- och miljömedicin inbjuder till en digital heldagskonferens i ett samarrangemang med Sveriges företagshälsor. \n\nMer information: https://www.sls.se/sls/aktuellt/kalendarium-sls-foreningar/hand-arm-vibrationsskada
DTEND;VALUE=DATE:20260205
DTSTAMP:20260422T120812Z
DTSTART;VALUE=DATE:20260204
LAST-MODIFIED:20260422T120812Z
LOCATION:Digitalt via Zoom
SEQUENCE:0
SUMMARY:Hand-arm vibrationsskada - det diffusa gränslandet – vem gör vad och när?
STATUS:CONFIRMED
TRANSP:TRANSPARENT
UID:4c47fa05-9672-486c-afb3-9381d14b5357
END:VEVENT
END:VCALENDAR
