BEGIN:VCALENDAR
PRODID:-//Eem//SV
VERSION:2.0
METHOD:PUBLISH
BEGIN:VEVENT
CLASS:PUBLIC
CREATED:20260420T124724Z
DESCRIPTION:Sammanfattning: #5. Hur ska läkare och vårdpersonal orka? \n\nMer information: https://www.sls.se/sls/aktuellt/kalendarium/sls-webbinarserie-svensk-sjukvard-i-kris-och-krig-5-hur-ska-lakare-och-vardpersonal-orka\n\nAnslut direkt till mötet: https://us06web.zoom.us/webinar/register/WN_4rWPEfhfSd-fvz4lqjyWXg#/registration
DTEND:20270114T120000Z
DTSTAMP:20260420T124724Z
DTSTART:20270113T120000Z
LAST-MODIFIED:20260420T124724Z
LOCATION:Zoom
SEQUENCE:0
SUMMARY:SLS webbinarserie: Svensk sjukvård i kris och krig – beredskap, ledning och uthållighet
STATUS:CONFIRMED
TRANSP:TRANSPARENT
UID:33503fac-178a-4f47-b971-b7185327be3f
END:VEVENT
END:VCALENDAR
