BEGIN:VCALENDAR
PRODID:-//Eem//SV
VERSION:2.0
METHOD:PUBLISH
BEGIN:VEVENT
CLASS:PUBLIC
CREATED:20260423T095456Z
DESCRIPTION:Sammanfattning: Har vi tid och råd med prevention? Har vi råd att låta bli? Vem ska göra det?\n\nMer information: https://www.sls.se/sls/aktuellt/tidigare-event/sls-preventionsdag-2024
DTEND:20240208T120000Z
DTSTAMP:20260423T095456Z
DTSTART:20240207T120000Z
LAST-MODIFIED:20260423T095456Z
LOCATION:SLS hus, Klara Östra Kyrkogata 10, Stockholm
SEQUENCE:0
SUMMARY:SLS Preventionsdag 2024
STATUS:CONFIRMED
TRANSP:TRANSPARENT
UID:5453799b-834b-4cb7-b8ec-6b9eb315eb0c
END:VEVENT
END:VCALENDAR
