BEGIN:VCALENDAR
PRODID:-//Eem//SV
VERSION:2.0
METHOD:PUBLISH
BEGIN:VEVENT
CLASS:PUBLIC
CREATED:20260423T081847Z
DESCRIPTION:Sammanfattning: Svenskt nätverk för nationella kliniska studier inom obstetrik och gynekologi (SNAKS) drar under våren 2024 i gång en webinarieserie för att sprida resultat från färdiga SNAKS-stödda studier.\n\nMer information: https://www.sls.se/sls/aktuellt/kalendarium-sls-foreningar/snaks-webinarier-2024
DTEND;VALUE=DATE:20240507
DTSTAMP:20260423T081847Z
DTSTART;VALUE=DATE:20240506
LAST-MODIFIED:20260423T081847Z
LOCATION:Zoom
SEQUENCE:0
SUMMARY:SNAKS webinarier 2024 – vad visade egentligen studien vi bidrog till?
STATUS:CONFIRMED
TRANSP:TRANSPARENT
UID:17aafa54-20ef-4468-9e96-38ec78da224f
END:VEVENT
END:VCALENDAR
