BEGIN:VCALENDAR
PRODID:-//Eem//SV
VERSION:2.0
METHOD:PUBLISH
BEGIN:VEVENT
CLASS:PUBLIC
CREATED:20260423T094523Z
DESCRIPTION:Sammanfattning: Fullmäktige är SLS högsta beslutande organ. Fullmäktige fastställer bland annat riktlinjer för SLS verksamhet och genomför val.\n\nMer information: https://www.sls.se/sls/aktuellt/organisationskalendarium/fullmaktige
DTEND;VALUE=DATE:20240514
DTSTAMP:20260423T094523Z
DTSTART;VALUE=DATE:20240513
LAST-MODIFIED:20260423T094523Z
LOCATION:
SEQUENCE:0
SUMMARY:SLS Fullmäktige 2024
STATUS:CONFIRMED
TRANSP:TRANSPARENT
UID:91df08e7-0b51-43af-9ede-f2bd419caa18
END:VEVENT
END:VCALENDAR
