BEGIN:VCALENDAR
PRODID:-//Eem//SV
VERSION:2.0
METHOD:PUBLISH
BEGIN:VEVENT
CLASS:PUBLIC
CREATED:20260423T081816Z
DESCRIPTION:Sammanfattning: Livets första kapitel – hur fosterliv och tidig utveckling formar vår hälsa genom livet\n\nMer information: https://www.sls.se/sls/aktuellt/kalendarium/sls-temakvall-med-professor-mark-hanson
DTEND:20260916T170000Z
DTSTAMP:20260423T081816Z
DTSTART:20260915T170000Z
LAST-MODIFIED:20260423T081816Z
LOCATION:SLS hus, Stockholm och digitalt
SEQUENCE:0
SUMMARY:SLS temakväll med professor Mark Hanson
STATUS:CONFIRMED
TRANSP:TRANSPARENT
UID:d2c88a2a-6953-4d6e-b075-9719c0657553
END:VEVENT
END:VCALENDAR
